BEGIN:VCALENDAR
VERSION:2.0
PRODID:-//horsealert.local//NONSGML kigkonsult.se iCalcreator 2.10.5//
CALSCALE:GREGORIAN
X-WR-TIMEZONE:Europe/Dublin
BEGIN:VTIMEZONE
TZID:Etc/GMT-1
BEGIN:STANDARD
DTSTART:20010101T000000
TZOFFSETFROM:+0100
TZOFFSETTO:+0100
TZNAME:GMT +01:00
END:STANDARD
END:VTIMEZONE
BEGIN:VEVENT
UID:20260425T160241CEST-97843ks1uJ@horsealert.local
DTSTAMP:20260425T140441Z
CATEGORIES:Horse Alerts
DESCRIPTION:Lily Foundation Handicap \(Jockey Club Grassroots Middle Distan
 ce Series Qualifier\)
DTSTART:20130606T210000
LOCATION:England
SUMMARY:Horse Racing:Lily Foundation Handicap \(Jockey Club Grassroots Midd
 le Distance Series Qualifier\)
END:VEVENT
END:VCALENDAR
