BEGIN:VCALENDAR
VERSION:2.0
PRODID:-//horsealert.local//NONSGML kigkonsult.se iCalcreator 2.10.5//
CALSCALE:GREGORIAN
X-WR-TIMEZONE:Europe/Dublin
BEGIN:VTIMEZONE
TZID:Etc/GMT-1
BEGIN:STANDARD
DTSTART:20010101T000000
TZOFFSETFROM:+0100
TZOFFSETTO:+0100
TZNAME:GMT +01:00
END:STANDARD
END:VTIMEZONE
BEGIN:VEVENT
UID:20260425T160226CEST-590661SLXf@horsealert.local
DTSTAMP:20260425T140426Z
CATEGORIES:Horse Alerts
DESCRIPTION:Dunboyne Handicap \(50-70\)
DTSTART:20130605T185500
LOCATION:Eire
SUMMARY:Horse Racing:Dunboyne Handicap \(50-70\)
END:VEVENT
END:VCALENDAR
