BEGIN:VCALENDAR
VERSION:2.0
PRODID:-//horsealert.local//NONSGML kigkonsult.se iCalcreator 2.10.5//
CALSCALE:GREGORIAN
X-WR-TIMEZONE:Europe/Dublin
BEGIN:VTIMEZONE
TZID:Etc/GMT-1
BEGIN:STANDARD
DTSTART:20010101T000000
TZOFFSETFROM:+0100
TZOFFSETTO:+0100
TZNAME:GMT +01:00
END:STANDARD
END:VTIMEZONE
BEGIN:VEVENT
UID:20260425T160048CEST-3813eTLcJk@horsealert.local
DTSTAMP:20260425T140448Z
CATEGORIES:Horse Alerts
DESCRIPTION:Harvest Festival 15th-21st September Handicap Hurdle \(80-95\) 
 \(Div 1\)
DTSTART:20130603T145000
LOCATION:Eire
SUMMARY:Horse Racing:Harvest Festival 15th-21st September Handicap Hurdle \
 (80-95\) \(Div 1\)
END:VEVENT
END:VCALENDAR
