BEGIN:VCALENDAR
VERSION:2.0
PRODID:-//horsealert.local//NONSGML kigkonsult.se iCalcreator 2.10.5//
CALSCALE:GREGORIAN
X-WR-TIMEZONE:Europe/Dublin
BEGIN:VTIMEZONE
TZID:Etc/GMT-1
BEGIN:STANDARD
DTSTART:20010101T000000
TZOFFSETFROM:+0100
TZOFFSETTO:+0100
TZNAME:GMT +01:00
END:STANDARD
END:VTIMEZONE
BEGIN:VEVENT
UID:20260425T160046CEST-0144SUTUN5@horsealert.local
DTSTAMP:20260425T140446Z
CATEGORIES:Horse Alerts
DESCRIPTION:Book Online At tramore-racecourse.com Handicap \(47-65\)
DTSTART:20130601T164500
LOCATION:Eire
SUMMARY:Horse Racing:Book Online At tramore-racecourse.com Handicap \(47-65
 \)
END:VEVENT
END:VCALENDAR
