BEGIN:VCALENDAR
VERSION:2.0
PRODID:-//horsealert.local//NONSGML kigkonsult.se iCalcreator 2.10.5//
CALSCALE:GREGORIAN
X-WR-TIMEZONE:Europe/Dublin
BEGIN:VTIMEZONE
TZID:Etc/GMT-1
BEGIN:STANDARD
DTSTART:20010101T000000
TZOFFSETFROM:+0100
TZOFFSETTO:+0100
TZNAME:GMT +01:00
END:STANDARD
END:VTIMEZONE
BEGIN:VEVENT
UID:20260425T160417CEST-26765grKZU@horsealert.local
DTSTAMP:20260425T140417Z
CATEGORIES:Horse Alerts
DESCRIPTION:Betfred \'Don\'t Miss Fred\'s Pushes\' Handicap
DTSTART:20130601T184000
LOCATION:England
SUMMARY:Horse Racing:Betfred \'Don\'t Miss Fred\'s Pushes\' Handicap
END:VEVENT
END:VCALENDAR
