BEGIN:VCALENDAR
VERSION:2.0
PRODID:-//horsealert.local//NONSGML kigkonsult.se iCalcreator 2.10.5//
CALSCALE:GREGORIAN
X-WR-TIMEZONE:Europe/Dublin
BEGIN:VTIMEZONE
TZID:Etc/GMT-1
BEGIN:STANDARD
DTSTART:20010101T000000
TZOFFSETFROM:+0100
TZOFFSETTO:+0100
TZNAME:GMT +01:00
END:STANDARD
END:VTIMEZONE
BEGIN:VEVENT
UID:20260425T175231CEST-0891UBOc7n@horsealert.local
DTSTAMP:20260425T150431Z
CATEGORIES:Horse Alerts
DESCRIPTION:Barclay Mobile App Design Handicap
DTSTART:20130531T202000
LOCATION:Northern Ireland
SUMMARY:Horse Racing:Barclay Mobile App Design Handicap
END:VEVENT
END:VCALENDAR
