BEGIN:VCALENDAR
VERSION:2.0
PRODID:-//horsealert.local//NONSGML kigkonsult.se iCalcreator 2.10.5//
CALSCALE:GREGORIAN
X-WR-TIMEZONE:Europe/Dublin
BEGIN:VTIMEZONE
TZID:Etc/GMT-1
BEGIN:STANDARD
DTSTART:20010101T000000
TZOFFSETFROM:+0100
TZOFFSETTO:+0100
TZNAME:GMT +01:00
END:STANDARD
END:VTIMEZONE
BEGIN:VEVENT
UID:20260425T194530CEST-0509wPWtJT@horsealert.local
DTSTAMP:20260425T170430Z
CATEGORIES:Horse Alerts
DESCRIPTION:Cantor Capital Handicap \(Jockey Club Grassroots Middle Distanc
 e Series Qualifier\)
DTSTART:20130530T181000
LOCATION:England
SUMMARY:Horse Racing:Cantor Capital Handicap \(Jockey Club Grassroots Middl
 e Distance Series Qualifier\)
END:VEVENT
END:VCALENDAR
