BEGIN:VCALENDAR
VERSION:2.0
PRODID:-//horsealert.local//NONSGML kigkonsult.se iCalcreator 2.10.5//
CALSCALE:GREGORIAN
X-WR-TIMEZONE:Europe/Dublin
BEGIN:VTIMEZONE
TZID:Etc/GMT-1
BEGIN:STANDARD
DTSTART:20010101T000000
TZOFFSETFROM:+0100
TZOFFSETTO:+0100
TZNAME:GMT +01:00
END:STANDARD
END:VTIMEZONE
BEGIN:VEVENT
UID:20260425T175328CEST-7806SAVADz@horsealert.local
DTSTAMP:20260425T150428Z
CATEGORIES:Horse Alerts
DESCRIPTION:hamilton-park.co.uk Handicap \(Qualifier for the 15\,000 Betfai
 r Scottish Stayers\' Flat Series Final\)
DTSTART:20130530T164000
LOCATION:Scotland
SUMMARY:Horse Racing:hamilton-park.co.uk Handicap \(Qualifier for the 15\,0
 00 Betfair Scottish Stayers\' Flat Series Final\)
END:VEVENT
END:VCALENDAR
