BEGIN:VCALENDAR
VERSION:2.0
PRODID:-//horsealert.local//NONSGML kigkonsult.se iCalcreator 2.10.5//
CALSCALE:GREGORIAN
X-WR-TIMEZONE:Europe/Dublin
BEGIN:VTIMEZONE
TZID:Etc/GMT-1
BEGIN:STANDARD
DTSTART:20010101T000000
TZOFFSETFROM:+0100
TZOFFSETTO:+0100
TZNAME:GMT +01:00
END:STANDARD
END:VTIMEZONE
BEGIN:VEVENT
UID:20260425T175333CEST-5957vbPFNR@horsealert.local
DTSTAMP:20260425T150433Z
CATEGORIES:Horse Alerts
DESCRIPTION:London\'s Race Tracks racingandmusic.co.uk Apprentice Handicap
DTSTART:20130529T205500
LOCATION:England
SUMMARY:Horse Racing:London\'s Race Tracks racingandmusic.co.uk Apprentice 
 Handicap
END:VEVENT
END:VCALENDAR
