BEGIN:VCALENDAR
VERSION:2.0
PRODID:-//horsealert.local//NONSGML kigkonsult.se iCalcreator 2.10.5//
CALSCALE:GREGORIAN
X-WR-TIMEZONE:Europe/Dublin
BEGIN:VTIMEZONE
TZID:Etc/GMT-1
BEGIN:STANDARD
DTSTART:20010101T000000
TZOFFSETFROM:+0100
TZOFFSETTO:+0100
TZNAME:GMT +01:00
END:STANDARD
END:VTIMEZONE
BEGIN:VEVENT
UID:20260425T175507CEST-7541XBBkTt@horsealert.local
DTSTAMP:20260425T150407Z
CATEGORIES:Horse Alerts
DESCRIPTION:Voltigeur Restaurant 2 Courses For 10.95 Amateur Riders\' Maide
 n Handicap
DTSTART:20130528T171000
LOCATION:England
SUMMARY:Horse Racing:Voltigeur Restaurant 2 Courses For 10.95 Amateur Rider
 s\' Maiden Handicap
END:VEVENT
END:VCALENDAR
