BEGIN:VCALENDAR
VERSION:2.0
PRODID:-//horsealert.local//NONSGML kigkonsult.se iCalcreator 2.10.5//
CALSCALE:GREGORIAN
X-WR-TIMEZONE:Europe/Dublin
BEGIN:VTIMEZONE
TZID:Etc/GMT-1
BEGIN:STANDARD
DTSTART:20010101T000000
TZOFFSETFROM:+0100
TZOFFSETTO:+0100
TZNAME:GMT +01:00
END:STANDARD
END:VTIMEZONE
BEGIN:VEVENT
UID:20260425T175452CEST-5594jxT330@horsealert.local
DTSTAMP:20260425T150452Z
CATEGORIES:Horse Alerts
DESCRIPTION:32RedBet.com Fillies\' Handicap \(AWT\)
DTSTART:20130528T205000
LOCATION:England
SUMMARY:Horse Racing:32RedBet.com Fillies\' Handicap \(AWT\)
END:VEVENT
END:VCALENDAR
