BEGIN:VCALENDAR
VERSION:2.0
PRODID:-//horsealert.local//NONSGML kigkonsult.se iCalcreator 2.10.5//
CALSCALE:GREGORIAN
X-WR-TIMEZONE:Europe/Dublin
BEGIN:VTIMEZONE
TZID:Etc/GMT-1
BEGIN:STANDARD
DTSTART:20010101T000000
TZOFFSETFROM:+0100
TZOFFSETTO:+0100
TZNAME:GMT +01:00
END:STANDARD
END:VTIMEZONE
BEGIN:VEVENT
UID:20260425T175337CEST-3332ZIcD9G@horsealert.local
DTSTAMP:20260425T150437Z
CATEGORIES:Horse Alerts
DESCRIPTION:Virtual Racing Every Day At totepool.com Apprentice Handicap
DTSTART:20130527T174000
LOCATION:England
SUMMARY:Horse Racing:Virtual Racing Every Day At totepool.com Apprentice Ha
 ndicap
END:VEVENT
END:VCALENDAR
