BEGIN:VCALENDAR
VERSION:2.0
PRODID:-//horsealert.local//NONSGML kigkonsult.se iCalcreator 2.10.5//
CALSCALE:GREGORIAN
X-WR-TIMEZONE:Europe/Dublin
BEGIN:VTIMEZONE
TZID:Etc/GMT-1
BEGIN:STANDARD
DTSTART:20010101T000000
TZOFFSETFROM:+0100
TZOFFSETTO:+0100
TZNAME:GMT +01:00
END:STANDARD
END:VTIMEZONE
BEGIN:VEVENT
UID:20260425T232029CEST-02848zuhZu@horsealert.local
DTSTAMP:20260425T210429Z
CATEGORIES:Horse Alerts
DESCRIPTION:Progressive Casino Jackpots At totepool.com E.B.F. Maiden Filli
 es\' Stakes
DTSTART:20130527T171000
LOCATION:England
SUMMARY:Horse Racing:Progressive Casino Jackpots At totepool.com E.B.F. Mai
 den Fillies\' Stakes
END:VEVENT
END:VCALENDAR
