BEGIN:VCALENDAR
VERSION:2.0
PRODID:-//horsealert.local//NONSGML kigkonsult.se iCalcreator 2.10.5//
CALSCALE:GREGORIAN
X-WR-TIMEZONE:Europe/Dublin
BEGIN:VTIMEZONE
TZID:Etc/GMT-1
BEGIN:STANDARD
DTSTART:20010101T000000
TZOFFSETFROM:+0100
TZOFFSETTO:+0100
TZNAME:GMT +01:00
END:STANDARD
END:VTIMEZONE
BEGIN:VEVENT
UID:20260425T175345CEST-3495t6zK8Z@horsealert.local
DTSTAMP:20260425T150445Z
CATEGORIES:Horse Alerts
DESCRIPTION:Play Roulette & Blackjack At totepool.com Selling Stakes
DTSTART:20130527T150000
LOCATION:England
SUMMARY:Horse Racing:Play Roulette & Blackjack At totepool.com Selling Stak
 es
END:VEVENT
END:VCALENDAR
