BEGIN:VCALENDAR
VERSION:2.0
PRODID:-//horsealert.local//NONSGML kigkonsult.se iCalcreator 2.10.5//
CALSCALE:GREGORIAN
X-WR-TIMEZONE:Europe/Dublin
BEGIN:VTIMEZONE
TZID:Etc/GMT-1
BEGIN:STANDARD
DTSTART:20010101T000000
TZOFFSETFROM:+0100
TZOFFSETTO:+0100
TZNAME:GMT +01:00
END:STANDARD
END:VTIMEZONE
BEGIN:VEVENT
UID:20260425T194439CEST-0415UzvMcI@horsealert.local
DTSTAMP:20260425T170439Z
CATEGORIES:Horse Alerts
DESCRIPTION:Pour Moi Coolmore Prix Saint-alary Stakes \(fillies Group 1\)
DTSTART:20130526T133000
LOCATION:France
SUMMARY:Horse Racing:Pour Moi Coolmore Prix Saint-alary Stakes \(fillies Gr
 oup 1\)
END:VEVENT
END:VCALENDAR
