BEGIN:VCALENDAR
VERSION:2.0
PRODID:-//horsealert.local//NONSGML kigkonsult.se iCalcreator 2.10.5//
CALSCALE:GREGORIAN
X-WR-TIMEZONE:Europe/Dublin
BEGIN:VTIMEZONE
TZID:Etc/GMT-1
BEGIN:STANDARD
DTSTART:20010101T000000
TZOFFSETFROM:+0100
TZOFFSETTO:+0100
TZNAME:GMT +01:00
END:STANDARD
END:VTIMEZONE
BEGIN:VEVENT
UID:20260425T175313CEST-9281ZbD3u6@horsealert.local
DTSTAMP:20260425T150413Z
CATEGORIES:Horse Alerts
DESCRIPTION:Three Peaks Challenge For Lisa 14-15 June Mares\' Maiden Hurdle
DTSTART:20130526T154000
LOCATION:England
SUMMARY:Horse Racing:Three Peaks Challenge For Lisa 14-15 June Mares\' Maid
 en Hurdle
END:VEVENT
END:VCALENDAR
