BEGIN:VCALENDAR
VERSION:2.0
PRODID:-//horsealert.local//NONSGML kigkonsult.se iCalcreator 2.10.5//
CALSCALE:GREGORIAN
X-WR-TIMEZONE:Europe/Dublin
BEGIN:VTIMEZONE
TZID:Etc/GMT-1
BEGIN:STANDARD
DTSTART:20010101T000000
TZOFFSETFROM:+0100
TZOFFSETTO:+0100
TZNAME:GMT +01:00
END:STANDARD
END:VTIMEZONE
BEGIN:VEVENT
UID:20260425T175243CEST-62682uaWjN@horsealert.local
DTSTAMP:20260425T150443Z
CATEGORIES:Horse Alerts
DESCRIPTION:Midlands Air Ambulance Conditional Jockeys\' Selling Hurdle
DTSTART:20130526T150500
LOCATION:England
SUMMARY:Horse Racing:Midlands Air Ambulance Conditional Jockeys\' Selling H
 urdle
END:VEVENT
END:VCALENDAR
