BEGIN:VCALENDAR
VERSION:2.0
PRODID:-//horsealert.local//NONSGML kigkonsult.se iCalcreator 2.10.5//
CALSCALE:GREGORIAN
X-WR-TIMEZONE:Europe/Dublin
BEGIN:VTIMEZONE
TZID:Etc/GMT-1
BEGIN:STANDARD
DTSTART:20010101T000000
TZOFFSETFROM:+0100
TZOFFSETTO:+0100
TZNAME:GMT +01:00
END:STANDARD
END:VTIMEZONE
BEGIN:VEVENT
UID:20260425T175327CEST-0715nELNEk@horsealert.local
DTSTAMP:20260425T150427Z
CATEGORIES:Horse Alerts
DESCRIPTION:Sarah & Jon Barry Big Birthday Celebration Novices\' Chase
DTSTART:20130525T200000
LOCATION:England
SUMMARY:Horse Racing:Sarah & Jon Barry Big Birthday Celebration Novices\' C
 hase
END:VEVENT
END:VCALENDAR
