BEGIN:VCALENDAR
VERSION:2.0
PRODID:-//horsealert.local//NONSGML kigkonsult.se iCalcreator 2.10.5//
CALSCALE:GREGORIAN
X-WR-TIMEZONE:Europe/Dublin
BEGIN:VTIMEZONE
TZID:Etc/GMT-1
BEGIN:STANDARD
DTSTART:20010101T000000
TZOFFSETFROM:+0100
TZOFFSETTO:+0100
TZNAME:GMT +01:00
END:STANDARD
END:VTIMEZONE
BEGIN:VEVENT
UID:20260425T175235CEST-8396wxVDIW@horsealert.local
DTSTAMP:20260425T150435Z
CATEGORIES:Horse Alerts
DESCRIPTION:Book Online At New Look whittleburyhall.co.uk Novices\' Chase
DTSTART:20130522T144000
LOCATION:England
SUMMARY:Horse Racing:Book Online At New Look whittleburyhall.co.uk Novices\
 ' Chase
END:VEVENT
END:VCALENDAR
