BEGIN:VCALENDAR
VERSION:2.0
PRODID:-//horsealert.local//NONSGML kigkonsult.se iCalcreator 2.10.5//
CALSCALE:GREGORIAN
X-WR-TIMEZONE:Europe/Dublin
BEGIN:VTIMEZONE
TZID:Etc/GMT-1
BEGIN:STANDARD
DTSTART:20010101T000000
TZOFFSETFROM:+0100
TZOFFSETTO:+0100
TZNAME:GMT +01:00
END:STANDARD
END:VTIMEZONE
BEGIN:VEVENT
UID:20260425T175353CEST-4190EH19LV@horsealert.local
DTSTAMP:20260425T150453Z
CATEGORIES:Horse Alerts
DESCRIPTION:Download The BetVictor Spincast App Now Classified Selling Stak
 es
DTSTART:20130522T165000
LOCATION:England
SUMMARY:Horse Racing:Download The BetVictor Spincast App Now Classified Sel
 ling Stakes
END:VEVENT
END:VCALENDAR
