BEGIN:VCALENDAR
VERSION:2.0
PRODID:-//horsealert.local//NONSGML kigkonsult.se iCalcreator 2.10.5//
CALSCALE:GREGORIAN
X-WR-TIMEZONE:Europe/Dublin
BEGIN:VTIMEZONE
TZID:Etc/GMT-1
BEGIN:STANDARD
DTSTART:20010101T000000
TZOFFSETFROM:+0100
TZOFFSETTO:+0100
TZNAME:GMT +01:00
END:STANDARD
END:VTIMEZONE
BEGIN:VEVENT
UID:20260425T175510CEST-8924UrSvXe@horsealert.local
DTSTAMP:20260425T150410Z
CATEGORIES:Horse Alerts
DESCRIPTION:International Sports Management & E.B.F. Maiden Fillies\' Stake
 s
DTSTART:20130520T184000
LOCATION:England
SUMMARY:Horse Racing:International Sports Management & E.B.F. Maiden Fillie
 s\' Stakes
END:VEVENT
END:VCALENDAR
