BEGIN:VCALENDAR
VERSION:2.0
PRODID:-//horsealert.local//NONSGML kigkonsult.se iCalcreator 2.10.5//
CALSCALE:GREGORIAN
X-WR-TIMEZONE:Europe/Dublin
BEGIN:VTIMEZONE
TZID:Etc/GMT-1
BEGIN:STANDARD
DTSTART:20010101T000000
TZOFFSETFROM:+0100
TZOFFSETTO:+0100
TZNAME:GMT +01:00
END:STANDARD
END:VTIMEZONE
BEGIN:VEVENT
UID:20260425T175515CEST-9996DbLiIW@horsealert.local
DTSTAMP:20260425T150415Z
CATEGORIES:Horse Alerts
DESCRIPTION:Yorkshire Racing Summer Festival 20th - 28th July Handicap
DTSTART:20130520T174000
LOCATION:England
SUMMARY:Horse Racing:Yorkshire Racing Summer Festival 20th - 28th July Hand
 icap
END:VEVENT
END:VCALENDAR
