BEGIN:VCALENDAR
VERSION:2.0
PRODID:-//horsealert.local//NONSGML kigkonsult.se iCalcreator 2.10.5//
CALSCALE:GREGORIAN
X-WR-TIMEZONE:Europe/Dublin
BEGIN:VTIMEZONE
TZID:Etc/GMT-1
BEGIN:STANDARD
DTSTART:20010101T000000
TZOFFSETFROM:+0100
TZOFFSETTO:+0100
TZNAME:GMT +01:00
END:STANDARD
END:VTIMEZONE
BEGIN:VEVENT
UID:20260425T194430CEST-0304sdvJWE@horsealert.local
DTSTAMP:20260425T170430Z
CATEGORIES:Horse Alerts
DESCRIPTION:Singapore Airlines International Cup \(Group 1\) \(Turf\)
DTSTART:20130519T134000
LOCATION:Singapore
SUMMARY:Horse Racing:Singapore Airlines International Cup \(Group 1\) \(Tur
 f\)
END:VEVENT
END:VCALENDAR
