BEGIN:VCALENDAR
VERSION:2.0
PRODID:-//horsealert.local//NONSGML kigkonsult.se iCalcreator 2.10.5//
CALSCALE:GREGORIAN
X-WR-TIMEZONE:Europe/Dublin
BEGIN:VTIMEZONE
TZID:Etc/GMT-1
BEGIN:STANDARD
DTSTART:20010101T000000
TZOFFSETFROM:+0100
TZOFFSETTO:+0100
TZNAME:GMT +01:00
END:STANDARD
END:VTIMEZONE
BEGIN:VEVENT
UID:20260425T175451CEST-7893Ekl88F@horsealert.local
DTSTAMP:20260425T150451Z
CATEGORIES:Horse Alerts
DESCRIPTION:Best Odds Guaranteed On Racing At coral.co.uk Fairway Stakes \(
 Listed\)
DTSTART:20130518T160500
LOCATION:England
SUMMARY:Horse Racing:Best Odds Guaranteed On Racing At coral.co.uk Fairway 
 Stakes \(Listed\)
END:VEVENT
END:VCALENDAR
