BEGIN:VCALENDAR
VERSION:2.0
PRODID:-//horsealert.local//NONSGML kigkonsult.se iCalcreator 2.10.5//
CALSCALE:GREGORIAN
X-WR-TIMEZONE:Europe/Dublin
BEGIN:VTIMEZONE
TZID:Etc/GMT-1
BEGIN:STANDARD
DTSTART:20010101T000000
TZOFFSETFROM:+0100
TZOFFSETTO:+0100
TZNAME:GMT +01:00
END:STANDARD
END:VTIMEZONE
BEGIN:VEVENT
UID:20260425T175411CEST-80387MAimc@horsealert.local
DTSTAMP:20260425T150411Z
CATEGORIES:Horse Alerts
DESCRIPTION:32RedBingo.com Open Hunters\' Chase \(For The United Hunts Cup\
 )
DTSTART:20130516T202500
LOCATION:England
SUMMARY:Horse Racing:32RedBingo.com Open Hunters\' Chase \(For The United H
 unts Cup\)
END:VEVENT
END:VCALENDAR
