BEGIN:VCALENDAR
VERSION:2.0
PRODID:-//horsealert.local//NONSGML kigkonsult.se iCalcreator 2.10.5//
CALSCALE:GREGORIAN
X-WR-TIMEZONE:Europe/Dublin
BEGIN:VTIMEZONE
TZID:Etc/GMT-1
BEGIN:STANDARD
DTSTART:20010101T000000
TZOFFSETFROM:+0100
TZOFFSETTO:+0100
TZNAME:GMT +01:00
END:STANDARD
END:VTIMEZONE
BEGIN:VEVENT
UID:20260425T175605CEST-98092CMVHJ@horsealert.local
DTSTAMP:20260425T150405Z
CATEGORIES:Horse Alerts
DESCRIPTION:Crabbie\'s Scottish Raspberry Alcoholic Ginger Beer Conditional
  Jockeys\' Handicap Hurdle
DTSTART:20130516T160500
LOCATION:Scotland
SUMMARY:Horse Racing:Crabbie\'s Scottish Raspberry Alcoholic Ginger Beer Co
 nditional Jockeys\' Handicap Hurdle
END:VEVENT
END:VCALENDAR
