BEGIN:VCALENDAR
VERSION:2.0
PRODID:-//horsealert.local//NONSGML kigkonsult.se iCalcreator 2.10.5//
CALSCALE:GREGORIAN
X-WR-TIMEZONE:Europe/Dublin
BEGIN:VTIMEZONE
TZID:Etc/GMT-1
BEGIN:STANDARD
DTSTART:20010101T000000
TZOFFSETFROM:+0100
TZOFFSETTO:+0100
TZNAME:GMT +01:00
END:STANDARD
END:VTIMEZONE
BEGIN:VEVENT
UID:20260425T175617CEST-63375VIbkE@horsealert.local
DTSTAMP:20260425T150417Z
CATEGORIES:Horse Alerts
DESCRIPTION:Scotland\'s Charity Air Ambulance Handicap Hurdle
DTSTART:20130515T180000
LOCATION:Scotland
SUMMARY:Horse Racing:Scotland\'s Charity Air Ambulance Handicap Hurdle
END:VEVENT
END:VCALENDAR
