BEGIN:VCALENDAR
VERSION:2.0
PRODID:-//horsealert.local//NONSGML kigkonsult.se iCalcreator 2.10.5//
CALSCALE:GREGORIAN
X-WR-TIMEZONE:Europe/Dublin
BEGIN:VTIMEZONE
TZID:Etc/GMT-1
BEGIN:STANDARD
DTSTART:20010101T000000
TZOFFSETFROM:+0100
TZOFFSETTO:+0100
TZNAME:GMT +01:00
END:STANDARD
END:VTIMEZONE
BEGIN:VEVENT
UID:20260425T175354CEST-1477JnvsRA@horsealert.local
DTSTAMP:20260425T150454Z
CATEGORIES:Horse Alerts
DESCRIPTION:Thanks Jo Littmoden For 10 Great Years Novices\' Handicap Chase
DTSTART:20130515T143500
LOCATION:England
SUMMARY:Horse Racing:Thanks Jo Littmoden For 10 Great Years Novices\' Handi
 cap Chase
END:VEVENT
END:VCALENDAR
