BEGIN:VCALENDAR
VERSION:2.0
PRODID:-//horsealert.local//NONSGML kigkonsult.se iCalcreator 2.10.5//
CALSCALE:GREGORIAN
X-WR-TIMEZONE:Europe/Dublin
BEGIN:VTIMEZONE
TZID:Etc/GMT-1
BEGIN:STANDARD
DTSTART:20010101T000000
TZOFFSETFROM:+0100
TZOFFSETTO:+0100
TZNAME:GMT +01:00
END:STANDARD
END:VTIMEZONE
BEGIN:VEVENT
UID:20260425T175523CEST-5521reVBsp@horsealert.local
DTSTAMP:20260425T150423Z
CATEGORIES:Horse Alerts
DESCRIPTION:Southwell Intermediate NH Flat Race \(Conditional Jockeys And A
 mateur Riders\)
DTSTART:20130514T203000
LOCATION:England
SUMMARY:Horse Racing:Southwell Intermediate NH Flat Race \(Conditional Jock
 eys And Amateur Riders\)
END:VEVENT
END:VCALENDAR
