BEGIN:VCALENDAR
VERSION:2.0
PRODID:-//horsealert.local//NONSGML kigkonsult.se iCalcreator 2.10.5//
CALSCALE:GREGORIAN
X-WR-TIMEZONE:Europe/Dublin
BEGIN:VTIMEZONE
TZID:Etc/GMT-1
BEGIN:STANDARD
DTSTART:20010101T000000
TZOFFSETFROM:+0100
TZOFFSETTO:+0100
TZNAME:GMT +01:00
END:STANDARD
END:VTIMEZONE
BEGIN:VEVENT
UID:20260425T194525CEST-0131GfFjLJ@horsealert.local
DTSTAMP:20260425T170425Z
CATEGORIES:Horse Alerts
DESCRIPTION:Paxtons Use Romero\'s For Hassle Free Insurance Handicap Chase
DTSTART:20130514T153000
LOCATION:England
SUMMARY:Horse Racing:Paxtons Use Romero\'s For Hassle Free Insurance Handic
 ap Chase
END:VEVENT
END:VCALENDAR
