BEGIN:VCALENDAR
VERSION:2.0
PRODID:-//horsealert.local//NONSGML kigkonsult.se iCalcreator 2.10.5//
CALSCALE:GREGORIAN
X-WR-TIMEZONE:Europe/Dublin
BEGIN:VTIMEZONE
TZID:Etc/GMT-1
BEGIN:STANDARD
DTSTART:20010101T000000
TZOFFSETFROM:+0100
TZOFFSETTO:+0100
TZNAME:GMT +01:00
END:STANDARD
END:VTIMEZONE
BEGIN:VEVENT
UID:20260425T175447CEST-0033s0vOSv@horsealert.local
DTSTAMP:20260425T150446Z
CATEGORIES:Horse Alerts
DESCRIPTION:Follow Killarney Races On Facebook Handicap \(60-90\)
DTSTART:20130514T192000
LOCATION:Eire
SUMMARY:Horse Racing:Follow Killarney Races On Facebook Handicap \(60-90\)
END:VEVENT
END:VCALENDAR
