BEGIN:VCALENDAR
VERSION:2.0
PRODID:-//horsealert.local//NONSGML kigkonsult.se iCalcreator 2.10.5//
CALSCALE:GREGORIAN
X-WR-TIMEZONE:Europe/Dublin
BEGIN:VTIMEZONE
TZID:Etc/GMT-1
BEGIN:STANDARD
DTSTART:20010101T000000
TZOFFSETFROM:+0100
TZOFFSETTO:+0100
TZNAME:GMT +01:00
END:STANDARD
END:VTIMEZONE
BEGIN:VEVENT
UID:20260425T175554CEST-1440bimW56@horsealert.local
DTSTAMP:20260425T150454Z
CATEGORIES:Horse Alerts
DESCRIPTION:Towcester Tea Rooms 10th Anniversary Mares\' Maiden Hurdle
DTSTART:20130513T193000
LOCATION:England
SUMMARY:Horse Racing:Towcester Tea Rooms 10th Anniversary Mares\' Maiden Hu
 rdle
END:VEVENT
END:VCALENDAR
