BEGIN:VCALENDAR
VERSION:2.0
PRODID:-//horsealert.local//NONSGML kigkonsult.se iCalcreator 2.10.5//
CALSCALE:GREGORIAN
X-WR-TIMEZONE:Europe/Dublin
BEGIN:VTIMEZONE
TZID:Etc/GMT-1
BEGIN:STANDARD
DTSTART:20010101T000000
TZOFFSETFROM:+0100
TZOFFSETTO:+0100
TZNAME:GMT +01:00
END:STANDARD
END:VTIMEZONE
BEGIN:VEVENT
UID:20260425T175328CEST-2411LcIClA@horsealert.local
DTSTAMP:20260425T150428Z
CATEGORIES:Horse Alerts
DESCRIPTION:Ladbrokes Download The App Handicap Chase \(Sunday 5k Bonus Rac
 e\)
DTSTART:20130512T151000
LOCATION:England
SUMMARY:Horse Racing:Ladbrokes Download The App Handicap Chase \(Sunday 5k 
 Bonus Race\)
END:VEVENT
END:VCALENDAR
