BEGIN:VCALENDAR
VERSION:2.0
PRODID:-//horsealert.local//NONSGML kigkonsult.se iCalcreator 2.10.5//
CALSCALE:GREGORIAN
X-WR-TIMEZONE:Europe/Dublin
BEGIN:VTIMEZONE
TZID:Etc/GMT-1
BEGIN:STANDARD
DTSTART:20010101T000000
TZOFFSETFROM:+0100
TZOFFSETTO:+0100
TZNAME:GMT +01:00
END:STANDARD
END:VTIMEZONE
BEGIN:VEVENT
UID:20260425T175510CEST-1625ARUB8c@horsealert.local
DTSTAMP:20260425T150410Z
CATEGORIES:Horse Alerts
DESCRIPTION:Tahlia And Frankie\'s Racing Excellence Conditional Jockeys\' T
 raining Series Final Handicap Hurdle
DTSTART:20130512T160000
LOCATION:England
SUMMARY:Horse Racing:Tahlia And Frankie\'s Racing Excellence Conditional Jo
 ckeys\' Training Series Final Handicap Hurdle
END:VEVENT
END:VCALENDAR
