BEGIN:VCALENDAR
VERSION:2.0
PRODID:-//horsealert.local//NONSGML kigkonsult.se iCalcreator 2.10.5//
CALSCALE:GREGORIAN
X-WR-TIMEZONE:Europe/Dublin
BEGIN:VTIMEZONE
TZID:Etc/GMT-1
BEGIN:STANDARD
DTSTART:20010101T000000
TZOFFSETFROM:+0100
TZOFFSETTO:+0100
TZNAME:GMT +01:00
END:STANDARD
END:VTIMEZONE
BEGIN:VEVENT
UID:20260425T175546CEST-1948S9dtod@horsealert.local
DTSTAMP:20260425T150446Z
CATEGORIES:Horse Alerts
DESCRIPTION:McArthurglen East Midlands Designer Outlet Handicap \(Jockey Cl
 ub Grassroots Sprint Series Qualifier\)
DTSTART:20130511T144500
LOCATION:England
SUMMARY:Horse Racing:McArthurglen East Midlands Designer Outlet Handicap \(
 Jockey Club Grassroots Sprint Series Qualifier\)
END:VEVENT
END:VCALENDAR
