BEGIN:VCALENDAR
VERSION:2.0
PRODID:-//horsealert.local//NONSGML kigkonsult.se iCalcreator 2.10.5//
CALSCALE:GREGORIAN
X-WR-TIMEZONE:Europe/Dublin
BEGIN:VTIMEZONE
TZID:Etc/GMT-1
BEGIN:STANDARD
DTSTART:20010101T000000
TZOFFSETFROM:+0100
TZOFFSETTO:+0100
TZNAME:GMT +01:00
END:STANDARD
END:VTIMEZONE
BEGIN:VEVENT
UID:20260425T175447CEST-4565ffRUMo@horsealert.local
DTSTAMP:20260425T150447Z
CATEGORIES:Horse Alerts
DESCRIPTION:Weatherbys Hamilton Insurance Novices\' Handicap Hurdle
DTSTART:20130510T135500
LOCATION:England
SUMMARY:Horse Racing:Weatherbys Hamilton Insurance Novices\' Handicap Hurdl
 e
END:VEVENT
END:VCALENDAR
