BEGIN:VCALENDAR
VERSION:2.0
PRODID:-//horsealert.local//NONSGML kigkonsult.se iCalcreator 2.10.5//
CALSCALE:GREGORIAN
X-WR-TIMEZONE:Europe/Dublin
BEGIN:VTIMEZONE
TZID:Etc/GMT-1
BEGIN:STANDARD
DTSTART:20010101T000000
TZOFFSETFROM:+0100
TZOFFSETTO:+0100
TZNAME:GMT +01:00
END:STANDARD
END:VTIMEZONE
BEGIN:VEVENT
UID:20260425T175547CEST-7487u1amVj@horsealert.local
DTSTAMP:20260425T150447Z
CATEGORIES:Horse Alerts
DESCRIPTION:Congratulations Scarborough AFC Handicap \(Jockey Club Grassroo
 ts Middle Distance Series Qualifier\)
DTSTART:20130510T192500
LOCATION:England
SUMMARY:Horse Racing:Congratulations Scarborough AFC Handicap \(Jockey Club
  Grassroots Middle Distance Series Qualifier\)
END:VEVENT
END:VCALENDAR
