BEGIN:VCALENDAR
VERSION:2.0
PRODID:-//horsealert.local//NONSGML kigkonsult.se iCalcreator 2.10.5//
CALSCALE:GREGORIAN
X-WR-TIMEZONE:Europe/Dublin
BEGIN:VTIMEZONE
TZID:Etc/GMT-1
BEGIN:STANDARD
DTSTART:20010101T000000
TZOFFSETFROM:+0100
TZOFFSETTO:+0100
TZNAME:GMT +01:00
END:STANDARD
END:VTIMEZONE
BEGIN:VEVENT
UID:20260425T175417CEST-2466Ld2Xdn@horsealert.local
DTSTAMP:20260425T150417Z
CATEGORIES:Horse Alerts
DESCRIPTION:freebets.co.uk Free Bets On Your Mobile Median Auction Maiden F
 illies\' Stakes
DTSTART:20130510T171000
LOCATION:England
SUMMARY:Horse Racing:freebets.co.uk Free Bets On Your Mobile Median Auction
  Maiden Fillies\' Stakes
END:VEVENT
END:VCALENDAR
