BEGIN:VCALENDAR
VERSION:2.0
PRODID:-//horsealert.local//NONSGML kigkonsult.se iCalcreator 2.10.5//
CALSCALE:GREGORIAN
X-WR-TIMEZONE:Europe/Dublin
BEGIN:VTIMEZONE
TZID:Etc/GMT-1
BEGIN:STANDARD
DTSTART:20010101T000000
TZOFFSETFROM:+0100
TZOFFSETTO:+0100
TZNAME:GMT +01:00
END:STANDARD
END:VTIMEZONE
BEGIN:VEVENT
UID:20260425T175502CEST-4186T1rEZV@horsealert.local
DTSTAMP:20260425T150402Z
CATEGORIES:Horse Alerts
DESCRIPTION:Ladbrokes Bet On Your Mobile Handicap \(AW\)
DTSTART:20130510T165000
LOCATION:England
SUMMARY:Horse Racing:Ladbrokes Bet On Your Mobile Handicap \(AW\)
END:VEVENT
END:VCALENDAR
