BEGIN:VCALENDAR
VERSION:2.0
PRODID:-//horsealert.local//NONSGML kigkonsult.se iCalcreator 2.10.5//
CALSCALE:GREGORIAN
X-WR-TIMEZONE:Europe/Dublin
BEGIN:VTIMEZONE
TZID:Etc/GMT-1
BEGIN:STANDARD
DTSTART:20010101T000000
TZOFFSETFROM:+0100
TZOFFSETTO:+0100
TZNAME:GMT +01:00
END:STANDARD
END:VTIMEZONE
BEGIN:VEVENT
UID:20260425T175616CEST-4474b0eBNM@horsealert.local
DTSTAMP:20260425T150416Z
CATEGORIES:Horse Alerts
DESCRIPTION:Follow Us On Twitter At BetVictorRacing Mares\' Maiden NH Flat 
 Race \(Cond/Amat\)
DTSTART:20130509T203500
LOCATION:England
SUMMARY:Horse Racing:Follow Us On Twitter At BetVictorRacing Mares\' Maiden
  NH Flat Race \(Cond/Amat\)
END:VEVENT
END:VCALENDAR
