BEGIN:VCALENDAR
VERSION:2.0
PRODID:-//horsealert.local//NONSGML kigkonsult.se iCalcreator 2.10.5//
CALSCALE:GREGORIAN
X-WR-TIMEZONE:Europe/Dublin
BEGIN:VTIMEZONE
TZID:Etc/GMT-1
BEGIN:STANDARD
DTSTART:20010101T000000
TZOFFSETFROM:+0100
TZOFFSETTO:+0100
TZNAME:GMT +01:00
END:STANDARD
END:VTIMEZONE
BEGIN:VEVENT
UID:20260425T175541CEST-7275dn6Vux@horsealert.local
DTSTAMP:20260425T150441Z
CATEGORIES:Horse Alerts
DESCRIPTION:E.B.F Binary Trends - Too Good To Be True-Investments Fillies\'
  Handicap
DTSTART:20130508T160000
LOCATION:England
SUMMARY:Horse Racing:E.B.F Binary Trends - Too Good To Be True-Investments 
 Fillies\' Handicap
END:VEVENT
END:VCALENDAR
