BEGIN:VCALENDAR
VERSION:2.0
PRODID:-//horsealert.local//NONSGML kigkonsult.se iCalcreator 2.10.5//
CALSCALE:GREGORIAN
X-WR-TIMEZONE:Europe/Dublin
BEGIN:VTIMEZONE
TZID:Etc/GMT-1
BEGIN:STANDARD
DTSTART:20010101T000000
TZOFFSETFROM:+0100
TZOFFSETTO:+0100
TZNAME:GMT +01:00
END:STANDARD
END:VTIMEZONE
BEGIN:VEVENT
UID:20260425T194436CEST-4951Nc87sV@horsealert.local
DTSTAMP:20260425T170436Z
CATEGORIES:Horse Alerts
DESCRIPTION:New Customers Commission Free 1st Month Fillies\' Handicap
DTSTART:20130508T181000
LOCATION:England
SUMMARY:Horse Racing:New Customers Commission Free 1st Month Fillies\' Hand
 icap
END:VEVENT
END:VCALENDAR
