BEGIN:VCALENDAR
VERSION:2.0
PRODID:-//horsealert.local//NONSGML kigkonsult.se iCalcreator 2.10.5//
CALSCALE:GREGORIAN
X-WR-TIMEZONE:Europe/Dublin
BEGIN:VTIMEZONE
TZID:Etc/GMT-1
BEGIN:STANDARD
DTSTART:20010101T000000
TZOFFSETFROM:+0100
TZOFFSETTO:+0100
TZNAME:GMT +01:00
END:STANDARD
END:VTIMEZONE
BEGIN:VEVENT
UID:20260425T175543CEST-6963ugpzu9@horsealert.local
DTSTAMP:20260425T150443Z
CATEGORIES:Horse Alerts
DESCRIPTION:Weatherbys Bank Cheshire Oaks \(For The Robert Sangster Memoria
 l Cup\) \(Fillies\' Listed\)
DTSTART:20130508T141500
LOCATION:England
SUMMARY:Horse Racing:Weatherbys Bank Cheshire Oaks \(For The Robert Sangste
 r Memorial Cup\) \(Fillies\' Listed\)
END:VEVENT
END:VCALENDAR
