BEGIN:VCALENDAR
VERSION:2.0
PRODID:-//horsealert.local//NONSGML kigkonsult.se iCalcreator 2.10.5//
CALSCALE:GREGORIAN
X-WR-TIMEZONE:Europe/Dublin
BEGIN:VTIMEZONE
TZID:Etc/GMT-1
BEGIN:STANDARD
DTSTART:20010101T000000
TZOFFSETFROM:+0100
TZOFFSETTO:+0100
TZNAME:GMT +01:00
END:STANDARD
END:VTIMEZONE
BEGIN:VEVENT
UID:20260425T175522CEST-7331KilcoT@horsealert.local
DTSTAMP:20260425T150422Z
CATEGORIES:Horse Alerts
DESCRIPTION:Irish Night On 10.07.13 Handicap \(Div 2\)
DTSTART:20130507T154000
LOCATION:England
SUMMARY:Horse Racing:Irish Night On 10.07.13 Handicap \(Div 2\)
END:VEVENT
END:VCALENDAR
