BEGIN:VCALENDAR
VERSION:2.0
PRODID:-//horsealert.local//NONSGML kigkonsult.se iCalcreator 2.10.5//
CALSCALE:GREGORIAN
X-WR-TIMEZONE:Europe/Dublin
BEGIN:VTIMEZONE
TZID:Etc/GMT-1
BEGIN:STANDARD
DTSTART:20010101T000000
TZOFFSETFROM:+0100
TZOFFSETTO:+0100
TZNAME:GMT +01:00
END:STANDARD
END:VTIMEZONE
BEGIN:VEVENT
UID:20260425T175606CEST-5232OaIdN4@horsealert.local
DTSTAMP:20260425T150406Z
CATEGORIES:Horse Alerts
DESCRIPTION:TRJ- \'Building On A Firm Foundation\' Handicap Chase
DTSTART:20130506T152000
LOCATION:Wales
SUMMARY:Horse Racing:TRJ- \'Building On A Firm Foundation\' Handicap Chase
END:VEVENT
END:VCALENDAR
