BEGIN:VCALENDAR
VERSION:2.0
PRODID:-//horsealert.local//NONSGML kigkonsult.se iCalcreator 2.10.5//
CALSCALE:GREGORIAN
X-WR-TIMEZONE:Europe/Dublin
BEGIN:VTIMEZONE
TZID:Etc/GMT-1
BEGIN:STANDARD
DTSTART:20010101T000000
TZOFFSETFROM:+0100
TZOFFSETTO:+0100
TZNAME:GMT +01:00
END:STANDARD
END:VTIMEZONE
BEGIN:VEVENT
UID:20260425T175548CEST-96332X46gE@horsealert.local
DTSTAMP:20260425T150448Z
CATEGORIES:Horse Alerts
DESCRIPTION:Canford Cliffs European Breeders Fund Athasi Stakes \(Fillies\'
  Group 3\)
DTSTART:20130506T165000
LOCATION:Eire
SUMMARY:Horse Racing:Canford Cliffs European Breeders Fund Athasi Stakes \(
 Fillies\' Group 3\)
END:VEVENT
END:VCALENDAR
