BEGIN:VCALENDAR
VERSION:2.0
PRODID:-//horsealert.local//NONSGML kigkonsult.se iCalcreator 2.10.5//
CALSCALE:GREGORIAN
X-WR-TIMEZONE:Europe/Dublin
BEGIN:VTIMEZONE
TZID:Etc/GMT-1
BEGIN:STANDARD
DTSTART:20010101T000000
TZOFFSETFROM:+0100
TZOFFSETTO:+0100
TZNAME:GMT +01:00
END:STANDARD
END:VTIMEZONE
BEGIN:VEVENT
UID:20260425T194525CEST-5514Dw9U8w@horsealert.local
DTSTAMP:20260425T170425Z
CATEGORIES:Horse Alerts
DESCRIPTION:High Chaparral European Breeders Fund Mooresbridge Stakes \(Gro
 up 3\)
DTSTART:20130506T151500
LOCATION:Eire
SUMMARY:Horse Racing:High Chaparral European Breeders Fund Mooresbridge Sta
 kes \(Group 3\)
END:VEVENT
END:VCALENDAR
