BEGIN:VCALENDAR
VERSION:2.0
PRODID:-//horsealert.local//NONSGML kigkonsult.se iCalcreator 2.10.5//
CALSCALE:GREGORIAN
X-WR-TIMEZONE:Europe/Dublin
BEGIN:VTIMEZONE
TZID:Etc/GMT-1
BEGIN:STANDARD
DTSTART:20010101T000000
TZOFFSETFROM:+0100
TZOFFSETTO:+0100
TZNAME:GMT +01:00
END:STANDARD
END:VTIMEZONE
BEGIN:VEVENT
UID:20260425T175610CEST-7943uMMlb4@horsealert.local
DTSTAMP:20260425T150410Z
CATEGORIES:Horse Alerts
DESCRIPTION:totepool Mobile Tangerine Trees Conditions Stakes \(Sunday 5k B
 onus Race\)
DTSTART:20130505T152500
LOCATION:Scotland
SUMMARY:Horse Racing:totepool Mobile Tangerine Trees Conditions Stakes \(Su
 nday 5k Bonus Race\)
END:VEVENT
END:VCALENDAR
