BEGIN:VCALENDAR
VERSION:2.0
PRODID:-//horsealert.local//NONSGML kigkonsult.se iCalcreator 2.10.5//
CALSCALE:GREGORIAN
X-WR-TIMEZONE:Europe/Dublin
BEGIN:VTIMEZONE
TZID:Etc/GMT-1
BEGIN:STANDARD
DTSTART:20010101T000000
TZOFFSETFROM:+0100
TZOFFSETTO:+0100
TZNAME:GMT +01:00
END:STANDARD
END:VTIMEZONE
BEGIN:VEVENT
UID:20260425T194440CEST-7770E1oZVd@horsealert.local
DTSTAMP:20260425T170440Z
CATEGORIES:Horse Alerts
DESCRIPTION:Betfred \'Still Treble Odds On Lucky\'s\' Median Auction Maiden
  Stakes
DTSTART:20130504T164000
LOCATION:England
SUMMARY:Horse Racing:Betfred \'Still Treble Odds On Lucky\'s\' Median Aucti
 on Maiden Stakes
END:VEVENT
END:VCALENDAR
