BEGIN:VCALENDAR
VERSION:2.0
PRODID:-//horsealert.local//NONSGML kigkonsult.se iCalcreator 2.10.5//
CALSCALE:GREGORIAN
X-WR-TIMEZONE:Europe/Dublin
BEGIN:VTIMEZONE
TZID:Etc/GMT-1
BEGIN:STANDARD
DTSTART:20010101T000000
TZOFFSETFROM:+0100
TZOFFSETTO:+0100
TZNAME:GMT +01:00
END:STANDARD
END:VTIMEZONE
BEGIN:VEVENT
UID:20260425T175544CEST-8281HAklu8@horsealert.local
DTSTAMP:20260425T150444Z
CATEGORIES:Horse Alerts
DESCRIPTION:Betfred Mobile Casino British Stallion Studs E.B.F. Conqueror S
 takes \(Fillies\' Listed\)
DTSTART:20130504T160500
LOCATION:England
SUMMARY:Horse Racing:Betfred Mobile Casino British Stallion Studs E.B.F. Co
 nqueror Stakes \(Fillies\' Listed\)
END:VEVENT
END:VCALENDAR
